BEGIN:VCALENDAR
VERSION:2.0
PRODID:-//Victory Word Center- Tokyo, Japan - ECPv6.15.13.1//NONSGML v1.0//EN
CALSCALE:GREGORIAN
METHOD:PUBLISH
X-WR-CALNAME:Victory Word Center- Tokyo, Japan
X-ORIGINAL-URL:https://vwc.jp/en/
X-WR-CALDESC:Events for Victory Word Center- Tokyo, Japan
REFRESH-INTERVAL;VALUE=DURATION:PT1H
X-Robots-Tag:noindex
X-PUBLISHED-TTL:PT1H
BEGIN:VTIMEZONE
TZID:Asia/Tokyo
BEGIN:STANDARD
TZOFFSETFROM:+0900
TZOFFSETTO:+0900
TZNAME:JST
DTSTART:20240101T000000
END:STANDARD
END:VTIMEZONE
BEGIN:VEVENT
DTSTART;TZID=Asia/Tokyo:20250524T140000
DTEND;TZID=Asia/Tokyo:20250524T150000
DTSTAMP:20260422T204324
CREATED:20250422T052137Z
LAST-MODIFIED:20250422T052137Z
UID:10003961-1748095200-1748098800@vwc.jp
SUMMARY:Tokyo Home Group
DESCRIPTION:– Days\n– Hours\n– Minutes\n– Seconds		\n		\n	\n	\n		\n			– Days\n– Hours\n– Minutes\n– Seconds		\n		\n	\n	\n		\n			– Days\n– Hours\n– Minutes\n– Seconds		\n		\n	\n	\n		\n			– Days\n– Hours\n– Minutes\n– Seconds		\n		\n	\n	\n		\n			– Days\n– Hours\n– Minutes\n– Seconds		\n		\n	\n	\n		\n			– Days\n– Hours\n– Minutes\n– Seconds		\n		\n	\n	\n		\n			– Days\n– Hours\n– Minutes\n– Seconds		\n		\n	\n	\n		\n			– Days\n– Hours\n– Minutes\n– Seconds		\n		\n	\n	\n		\n			– Days\n– Hours\n– Minutes\n– Seconds		\n		\n	\n	\n		\n			– Days\n– Hours\n– Minutes\n– Seconds
URL:https://vwc.jp/en/event/tokyo-home-group/
LOCATION:Yoga Area\, Tokyo\, Tokyo\, Japan
ATTACH;FMTTYPE=image/jpeg:https://vwc.jp/wp-content/uploads/2025/04/pexels-tima-miroshnichenko-6860385-scaled.jpg
END:VEVENT
END:VCALENDAR