BEGIN:VCALENDAR
VERSION:2.0
PRODID:-//Victory Word Center - Tokyo, Japan - ECPv6.15.13.1//NONSGML v1.0//EN
CALSCALE:GREGORIAN
METHOD:PUBLISH
X-WR-CALNAME:Victory Word Center - Tokyo, Japan
X-ORIGINAL-URL:https://vwc.jp
X-WR-CALDESC:Victory Word Center - Tokyo, Japan のイベント
REFRESH-INTERVAL;VALUE=DURATION:PT1H
X-Robots-Tag:noindex
X-PUBLISHED-TTL:PT1H
BEGIN:VTIMEZONE
TZID:Asia/Tokyo
BEGIN:STANDARD
TZOFFSETFROM:+0900
TZOFFSETTO:+0900
TZNAME:JST
DTSTART:20240101T000000
END:STANDARD
END:VTIMEZONE
BEGIN:VEVENT
DTSTART;TZID=Asia/Tokyo:20250711T200000
DTEND;TZID=Asia/Tokyo:20250711T210000
DTSTAMP:20260422T175933
CREATED:20250501T040150Z
LAST-MODIFIED:20260217T085031Z
UID:10004200-1752264000-1752267600@vwc.jp
SUMMARY:金曜日の夜の祈り
DESCRIPTION:– Days\n– Hours\n– Minutes\n– Seconds		\n		\n	\n	\n		\n			– Days\n– Hours\n– Minutes\n– Seconds		\n		\n	\n	\n		\n			– Days\n– Hours\n– Minutes\n– Seconds		\n		\n	\n	\n		\n			– Days\n– Hours\n– Minutes\n– Seconds		\n		\n	\n	\n		\n			– Days\n– Hours\n– Minutes\n– Seconds		\n		\n	\n	\n		\n			– Days\n– Hours\n– Minutes\n– Seconds		\n		\n	\n	\n		\n			– Days\n– Hours\n– Minutes\n– Seconds		\n		\n	\n	\n		\n			– Days\n– Hours\n– Minutes\n– Seconds		\n		\n	\n	\n		\n			– Days\n– Hours\n– Minutes\n– Seconds		\n		\n	\n	\n		\n			– Days\n– Hours\n– Minutes\n– Seconds
URL:https://vwc.jp/event/fridaynightprayer/2025-07-11/
LOCATION:ビクトリー国際キリスト教会-2\, 千間台西3-1-24 Victory Place\, 越谷市\, 埼玉県\, 343-0041\, Japan
ATTACH;FMTTYPE=image/jpeg:https://vwc.jp/wp-content/uploads/2025/04/pexels-israwmx-27992022-scaled.jpg
GEO:35.9342721223;139.768877085
X-APPLE-STRUCTURED-LOCATION;VALUE=URI;X-ADDRESS=ビクトリー国際キリスト教会-2 千間台西3-1-24 Victory Place 越谷市 埼玉県 343-0041 Japan;X-APPLE-RADIUS=500;X-TITLE=千間台西3-1-24 Victory Place:geo:139.768877085,35.9342721223
END:VEVENT
BEGIN:VEVENT
DTSTART;TZID=Asia/Tokyo:20250704T200000
DTEND;TZID=Asia/Tokyo:20250704T210000
DTSTAMP:20260422T175933
CREATED:20250501T040150Z
LAST-MODIFIED:20260217T085031Z
UID:10004199-1751659200-1751662800@vwc.jp
SUMMARY:金曜日の夜の祈り
DESCRIPTION:– Days\n– Hours\n– Minutes\n– Seconds		\n		\n	\n	\n		\n			– Days\n– Hours\n– Minutes\n– Seconds		\n		\n	\n	\n		\n			– Days\n– Hours\n– Minutes\n– Seconds		\n		\n	\n	\n		\n			– Days\n– Hours\n– Minutes\n– Seconds		\n		\n	\n	\n		\n			– Days\n– Hours\n– Minutes\n– Seconds		\n		\n	\n	\n		\n			– Days\n– Hours\n– Minutes\n– Seconds		\n		\n	\n	\n		\n			– Days\n– Hours\n– Minutes\n– Seconds		\n		\n	\n	\n		\n			– Days\n– Hours\n– Minutes\n– Seconds		\n		\n	\n	\n		\n			– Days\n– Hours\n– Minutes\n– Seconds		\n		\n	\n	\n		\n			– Days\n– Hours\n– Minutes\n– Seconds
URL:https://vwc.jp/event/fridaynightprayer/2025-07-04/
LOCATION:ビクトリー国際キリスト教会-2\, 千間台西3-1-24 Victory Place\, 越谷市\, 埼玉県\, 343-0041\, Japan
ATTACH;FMTTYPE=image/jpeg:https://vwc.jp/wp-content/uploads/2025/04/pexels-israwmx-27992022-scaled.jpg
GEO:35.9342721223;139.768877085
X-APPLE-STRUCTURED-LOCATION;VALUE=URI;X-ADDRESS=ビクトリー国際キリスト教会-2 千間台西3-1-24 Victory Place 越谷市 埼玉県 343-0041 Japan;X-APPLE-RADIUS=500;X-TITLE=千間台西3-1-24 Victory Place:geo:139.768877085,35.9342721223
END:VEVENT
BEGIN:VEVENT
DTSTART;TZID=Asia/Tokyo:20250629T123000
DTEND;TZID=Asia/Tokyo:20250629T133000
DTSTAMP:20260422T175933
CREATED:20250407T074412Z
LAST-MODIFIED:20250407T081319Z
UID:10003409-1751200200-1751203800@vwc.jp
SUMMARY:フード・フェローシップ
DESCRIPTION:– Days\n– Hours\n– Minutes\n– Seconds		\n		\n	\n	\n		\n			– Days\n– Hours\n– Minutes\n– Seconds		\n		\n	\n	\n		\n			– Days\n– Hours\n– Minutes\n– Seconds		\n		\n	\n	\n		\n			– Days\n– Hours\n– Minutes\n– Seconds		\n		\n	\n	\n		\n			– Days\n– Hours\n– Minutes\n– Seconds		\n		\n	\n	\n		\n			– Days\n– Hours\n– Minutes\n– Seconds		\n		\n	\n	\n		\n			– Days\n– Hours\n– Minutes\n– Seconds		\n		\n	\n	\n		\n			– Days\n– Hours\n– Minutes\n– Seconds		\n		\n	\n	\n		\n			– Days\n– Hours\n– Minutes\n– Seconds		\n		\n	\n	\n		\n			– Days\n– Hours\n– Minutes\n– Seconds
URL:https://vwc.jp/event/%e3%83%95%e3%83%bc%e3%83%89%e3%83%bb%e3%83%95%e3%82%a7%e3%83%ad%e3%83%bc%e3%82%b7%e3%83%83%e3%83%97/2025-06-29/
LOCATION:ビクトリー国際キリスト教会-2\, 千間台西3-1-24 Victory Place\, 越谷市\, 埼玉県\, 343-0041\, Japan
ATTACH;FMTTYPE=image/jpeg:https://vwc.jp/wp-content/uploads/2025/04/pizza-329523_1280.jpg
GEO:35.9342721223;139.768877085
X-APPLE-STRUCTURED-LOCATION;VALUE=URI;X-ADDRESS=ビクトリー国際キリスト教会-2 千間台西3-1-24 Victory Place 越谷市 埼玉県 343-0041 Japan;X-APPLE-RADIUS=500;X-TITLE=千間台西3-1-24 Victory Place:geo:139.768877085,35.9342721223
END:VEVENT
BEGIN:VEVENT
DTSTART;TZID=Asia/Tokyo:20250627T200000
DTEND;TZID=Asia/Tokyo:20250627T210000
DTSTAMP:20260422T175933
CREATED:20250501T040150Z
LAST-MODIFIED:20260217T085031Z
UID:10004025-1751054400-1751058000@vwc.jp
SUMMARY:金曜日の夜の祈り
DESCRIPTION:– Days\n– Hours\n– Minutes\n– Seconds		\n		\n	\n	\n		\n			– Days\n– Hours\n– Minutes\n– Seconds		\n		\n	\n	\n		\n			– Days\n– Hours\n– Minutes\n– Seconds		\n		\n	\n	\n		\n			– Days\n– Hours\n– Minutes\n– Seconds		\n		\n	\n	\n		\n			– Days\n– Hours\n– Minutes\n– Seconds		\n		\n	\n	\n		\n			– Days\n– Hours\n– Minutes\n– Seconds		\n		\n	\n	\n		\n			– Days\n– Hours\n– Minutes\n– Seconds		\n		\n	\n	\n		\n			– Days\n– Hours\n– Minutes\n– Seconds		\n		\n	\n	\n		\n			– Days\n– Hours\n– Minutes\n– Seconds		\n		\n	\n	\n		\n			– Days\n– Hours\n– Minutes\n– Seconds
URL:https://vwc.jp/event/fridaynightprayer/2025-06-27/
LOCATION:ビクトリー国際キリスト教会-2\, 千間台西3-1-24 Victory Place\, 越谷市\, 埼玉県\, 343-0041\, Japan
ATTACH;FMTTYPE=image/jpeg:https://vwc.jp/wp-content/uploads/2025/04/pexels-israwmx-27992022-scaled.jpg
GEO:35.9342721223;139.768877085
X-APPLE-STRUCTURED-LOCATION;VALUE=URI;X-ADDRESS=ビクトリー国際キリスト教会-2 千間台西3-1-24 Victory Place 越谷市 埼玉県 343-0041 Japan;X-APPLE-RADIUS=500;X-TITLE=千間台西3-1-24 Victory Place:geo:139.768877085,35.9342721223
END:VEVENT
BEGIN:VEVENT
DTSTART;TZID=Asia/Tokyo:20250621T170000
DTEND;TZID=Asia/Tokyo:20250621T190000
DTSTAMP:20260422T175933
CREATED:20250408T011639Z
LAST-MODIFIED:20250408T011639Z
UID:10003431-1750525200-1750532400@vwc.jp
SUMMARY:ファミリー・セミナー
DESCRIPTION:– Days\n– Hours\n– Minutes\n– Seconds		\n		\n	\n	\n		\n			– Days\n– Hours\n– Minutes\n– Seconds		\n		\n	\n	\n		\n			– Days\n– Hours\n– Minutes\n– Seconds		\n		\n	\n	\n		\n			– Days\n– Hours\n– Minutes\n– Seconds		\n		\n	\n	\n		\n			– Days\n– Hours\n– Minutes\n– Seconds		\n		\n	\n	\n		\n			– Days\n– Hours\n– Minutes\n– Seconds		\n		\n	\n	\n		\n			– Days\n– Hours\n– Minutes\n– Seconds		\n		\n	\n	\n		\n			– Days\n– Hours\n– Minutes\n– Seconds		\n		\n	\n	\n		\n			– Days\n– Hours\n– Minutes\n– Seconds		\n		\n	\n	\n		\n			– Days\n– Hours\n– Minutes\n– Seconds
URL:https://vwc.jp/event/familyseminar/
LOCATION:ビクトリー国際キリスト教会-2\, 千間台西3-1-24 Victory Place\, 越谷市\, 埼玉県\, 343-0041\, Japan
ATTACH;FMTTYPE=image/jpeg:https://vwc.jp/wp-content/uploads/2025/04/family-6398107_1280.jpg
GEO:35.9342721223;139.768877085
X-APPLE-STRUCTURED-LOCATION;VALUE=URI;X-ADDRESS=ビクトリー国際キリスト教会-2 千間台西3-1-24 Victory Place 越谷市 埼玉県 343-0041 Japan;X-APPLE-RADIUS=500;X-TITLE=千間台西3-1-24 Victory Place:geo:139.768877085,35.9342721223
END:VEVENT
BEGIN:VEVENT
DTSTART;TZID=Asia/Tokyo:20250620T200000
DTEND;TZID=Asia/Tokyo:20250620T210000
DTSTAMP:20260422T175933
CREATED:20250501T040150Z
LAST-MODIFIED:20260217T085031Z
UID:10004198-1750449600-1750453200@vwc.jp
SUMMARY:金曜日の夜の祈り
DESCRIPTION:– Days\n– Hours\n– Minutes\n– Seconds		\n		\n	\n	\n		\n			– Days\n– Hours\n– Minutes\n– Seconds		\n		\n	\n	\n		\n			– Days\n– Hours\n– Minutes\n– Seconds		\n		\n	\n	\n		\n			– Days\n– Hours\n– Minutes\n– Seconds		\n		\n	\n	\n		\n			– Days\n– Hours\n– Minutes\n– Seconds		\n		\n	\n	\n		\n			– Days\n– Hours\n– Minutes\n– Seconds		\n		\n	\n	\n		\n			– Days\n– Hours\n– Minutes\n– Seconds		\n		\n	\n	\n		\n			– Days\n– Hours\n– Minutes\n– Seconds		\n		\n	\n	\n		\n			– Days\n– Hours\n– Minutes\n– Seconds		\n		\n	\n	\n		\n			– Days\n– Hours\n– Minutes\n– Seconds
URL:https://vwc.jp/event/fridaynightprayer/2025-06-20/
LOCATION:ビクトリー国際キリスト教会-2\, 千間台西3-1-24 Victory Place\, 越谷市\, 埼玉県\, 343-0041\, Japan
ATTACH;FMTTYPE=image/jpeg:https://vwc.jp/wp-content/uploads/2025/04/pexels-israwmx-27992022-scaled.jpg
GEO:35.9342721223;139.768877085
X-APPLE-STRUCTURED-LOCATION;VALUE=URI;X-ADDRESS=ビクトリー国際キリスト教会-2 千間台西3-1-24 Victory Place 越谷市 埼玉県 343-0041 Japan;X-APPLE-RADIUS=500;X-TITLE=千間台西3-1-24 Victory Place:geo:139.768877085,35.9342721223
END:VEVENT
BEGIN:VEVENT
DTSTART;TZID=Asia/Tokyo:20250613T200000
DTEND;TZID=Asia/Tokyo:20250613T210000
DTSTAMP:20260422T175933
CREATED:20250501T040150Z
LAST-MODIFIED:20260217T085031Z
UID:10004197-1749844800-1749848400@vwc.jp
SUMMARY:金曜日の夜の祈り
DESCRIPTION:– Days\n– Hours\n– Minutes\n– Seconds		\n		\n	\n	\n		\n			– Days\n– Hours\n– Minutes\n– Seconds		\n		\n	\n	\n		\n			– Days\n– Hours\n– Minutes\n– Seconds		\n		\n	\n	\n		\n			– Days\n– Hours\n– Minutes\n– Seconds		\n		\n	\n	\n		\n			– Days\n– Hours\n– Minutes\n– Seconds		\n		\n	\n	\n		\n			– Days\n– Hours\n– Minutes\n– Seconds		\n		\n	\n	\n		\n			– Days\n– Hours\n– Minutes\n– Seconds		\n		\n	\n	\n		\n			– Days\n– Hours\n– Minutes\n– Seconds		\n		\n	\n	\n		\n			– Days\n– Hours\n– Minutes\n– Seconds		\n		\n	\n	\n		\n			– Days\n– Hours\n– Minutes\n– Seconds
URL:https://vwc.jp/event/fridaynightprayer/2025-06-13/
LOCATION:ビクトリー国際キリスト教会-2\, 千間台西3-1-24 Victory Place\, 越谷市\, 埼玉県\, 343-0041\, Japan
ATTACH;FMTTYPE=image/jpeg:https://vwc.jp/wp-content/uploads/2025/04/pexels-israwmx-27992022-scaled.jpg
GEO:35.9342721223;139.768877085
X-APPLE-STRUCTURED-LOCATION;VALUE=URI;X-ADDRESS=ビクトリー国際キリスト教会-2 千間台西3-1-24 Victory Place 越谷市 埼玉県 343-0041 Japan;X-APPLE-RADIUS=500;X-TITLE=千間台西3-1-24 Victory Place:geo:139.768877085,35.9342721223
END:VEVENT
BEGIN:VEVENT
DTSTART;TZID=Asia/Tokyo:20250606T200000
DTEND;TZID=Asia/Tokyo:20250606T210000
DTSTAMP:20260422T175933
CREATED:20250501T040150Z
LAST-MODIFIED:20260217T085031Z
UID:10004196-1749240000-1749243600@vwc.jp
SUMMARY:金曜日の夜の祈り
DESCRIPTION:– Days\n– Hours\n– Minutes\n– Seconds		\n		\n	\n	\n		\n			– Days\n– Hours\n– Minutes\n– Seconds		\n		\n	\n	\n		\n			– Days\n– Hours\n– Minutes\n– Seconds		\n		\n	\n	\n		\n			– Days\n– Hours\n– Minutes\n– Seconds		\n		\n	\n	\n		\n			– Days\n– Hours\n– Minutes\n– Seconds		\n		\n	\n	\n		\n			– Days\n– Hours\n– Minutes\n– Seconds		\n		\n	\n	\n		\n			– Days\n– Hours\n– Minutes\n– Seconds		\n		\n	\n	\n		\n			– Days\n– Hours\n– Minutes\n– Seconds		\n		\n	\n	\n		\n			– Days\n– Hours\n– Minutes\n– Seconds		\n		\n	\n	\n		\n			– Days\n– Hours\n– Minutes\n– Seconds
URL:https://vwc.jp/event/fridaynightprayer/2025-06-06/
LOCATION:ビクトリー国際キリスト教会-2\, 千間台西3-1-24 Victory Place\, 越谷市\, 埼玉県\, 343-0041\, Japan
ATTACH;FMTTYPE=image/jpeg:https://vwc.jp/wp-content/uploads/2025/04/pexels-israwmx-27992022-scaled.jpg
GEO:35.9342721223;139.768877085
X-APPLE-STRUCTURED-LOCATION;VALUE=URI;X-ADDRESS=ビクトリー国際キリスト教会-2 千間台西3-1-24 Victory Place 越谷市 埼玉県 343-0041 Japan;X-APPLE-RADIUS=500;X-TITLE=千間台西3-1-24 Victory Place:geo:139.768877085,35.9342721223
END:VEVENT
BEGIN:VEVENT
DTSTART;TZID=Asia/Tokyo:20250530T200000
DTEND;TZID=Asia/Tokyo:20250530T210000
DTSTAMP:20260422T175933
CREATED:20250501T040150Z
LAST-MODIFIED:20260217T085031Z
UID:10004024-1748635200-1748638800@vwc.jp
SUMMARY:金曜日の夜の祈り
DESCRIPTION:– Days\n– Hours\n– Minutes\n– Seconds		\n		\n	\n	\n		\n			– Days\n– Hours\n– Minutes\n– Seconds		\n		\n	\n	\n		\n			– Days\n– Hours\n– Minutes\n– Seconds		\n		\n	\n	\n		\n			– Days\n– Hours\n– Minutes\n– Seconds		\n		\n	\n	\n		\n			– Days\n– Hours\n– Minutes\n– Seconds		\n		\n	\n	\n		\n			– Days\n– Hours\n– Minutes\n– Seconds		\n		\n	\n	\n		\n			– Days\n– Hours\n– Minutes\n– Seconds		\n		\n	\n	\n		\n			– Days\n– Hours\n– Minutes\n– Seconds		\n		\n	\n	\n		\n			– Days\n– Hours\n– Minutes\n– Seconds		\n		\n	\n	\n		\n			– Days\n– Hours\n– Minutes\n– Seconds
URL:https://vwc.jp/event/fridaynightprayer/2025-05-30/
LOCATION:ビクトリー国際キリスト教会-2\, 千間台西3-1-24 Victory Place\, 越谷市\, 埼玉県\, 343-0041\, Japan
ATTACH;FMTTYPE=image/jpeg:https://vwc.jp/wp-content/uploads/2025/04/pexels-israwmx-27992022-scaled.jpg
GEO:35.9342721223;139.768877085
X-APPLE-STRUCTURED-LOCATION;VALUE=URI;X-ADDRESS=ビクトリー国際キリスト教会-2 千間台西3-1-24 Victory Place 越谷市 埼玉県 343-0041 Japan;X-APPLE-RADIUS=500;X-TITLE=千間台西3-1-24 Victory Place:geo:139.768877085,35.9342721223
END:VEVENT
BEGIN:VEVENT
DTSTART;TZID=Asia/Tokyo:20250525T123000
DTEND;TZID=Asia/Tokyo:20250525T133000
DTSTAMP:20260422T175933
CREATED:20250407T074412Z
LAST-MODIFIED:20250407T081319Z
UID:10003408-1748176200-1748179800@vwc.jp
SUMMARY:フード・フェローシップ
DESCRIPTION:– Days\n– Hours\n– Minutes\n– Seconds		\n		\n	\n	\n		\n			– Days\n– Hours\n– Minutes\n– Seconds		\n		\n	\n	\n		\n			– Days\n– Hours\n– Minutes\n– Seconds		\n		\n	\n	\n		\n			– Days\n– Hours\n– Minutes\n– Seconds		\n		\n	\n	\n		\n			– Days\n– Hours\n– Minutes\n– Seconds		\n		\n	\n	\n		\n			– Days\n– Hours\n– Minutes\n– Seconds		\n		\n	\n	\n		\n			– Days\n– Hours\n– Minutes\n– Seconds		\n		\n	\n	\n		\n			– Days\n– Hours\n– Minutes\n– Seconds		\n		\n	\n	\n		\n			– Days\n– Hours\n– Minutes\n– Seconds		\n		\n	\n	\n		\n			– Days\n– Hours\n– Minutes\n– Seconds
URL:https://vwc.jp/event/%e3%83%95%e3%83%bc%e3%83%89%e3%83%bb%e3%83%95%e3%82%a7%e3%83%ad%e3%83%bc%e3%82%b7%e3%83%83%e3%83%97/2025-05-25/
LOCATION:ビクトリー国際キリスト教会-2\, 千間台西3-1-24 Victory Place\, 越谷市\, 埼玉県\, 343-0041\, Japan
ATTACH;FMTTYPE=image/jpeg:https://vwc.jp/wp-content/uploads/2025/04/pizza-329523_1280.jpg
GEO:35.9342721223;139.768877085
X-APPLE-STRUCTURED-LOCATION;VALUE=URI;X-ADDRESS=ビクトリー国際キリスト教会-2 千間台西3-1-24 Victory Place 越谷市 埼玉県 343-0041 Japan;X-APPLE-RADIUS=500;X-TITLE=千間台西3-1-24 Victory Place:geo:139.768877085,35.9342721223
END:VEVENT
BEGIN:VEVENT
DTSTART;TZID=Asia/Tokyo:20250427T123000
DTEND;TZID=Asia/Tokyo:20250427T133000
DTSTAMP:20260422T175933
CREATED:20250407T074412Z
LAST-MODIFIED:20250407T081319Z
UID:10003407-1745757000-1745760600@vwc.jp
SUMMARY:フード・フェローシップ
DESCRIPTION:– Days\n– Hours\n– Minutes\n– Seconds		\n		\n	\n	\n		\n			– Days\n– Hours\n– Minutes\n– Seconds		\n		\n	\n	\n		\n			– Days\n– Hours\n– Minutes\n– Seconds		\n		\n	\n	\n		\n			– Days\n– Hours\n– Minutes\n– Seconds		\n		\n	\n	\n		\n			– Days\n– Hours\n– Minutes\n– Seconds		\n		\n	\n	\n		\n			– Days\n– Hours\n– Minutes\n– Seconds		\n		\n	\n	\n		\n			– Days\n– Hours\n– Minutes\n– Seconds		\n		\n	\n	\n		\n			– Days\n– Hours\n– Minutes\n– Seconds		\n		\n	\n	\n		\n			– Days\n– Hours\n– Minutes\n– Seconds		\n		\n	\n	\n		\n			– Days\n– Hours\n– Minutes\n– Seconds
URL:https://vwc.jp/event/%e3%83%95%e3%83%bc%e3%83%89%e3%83%bb%e3%83%95%e3%82%a7%e3%83%ad%e3%83%bc%e3%82%b7%e3%83%83%e3%83%97/2025-04-27/
LOCATION:ビクトリー国際キリスト教会-2\, 千間台西3-1-24 Victory Place\, 越谷市\, 埼玉県\, 343-0041\, Japan
ATTACH;FMTTYPE=image/jpeg:https://vwc.jp/wp-content/uploads/2025/04/pizza-329523_1280.jpg
GEO:35.9342721223;139.768877085
X-APPLE-STRUCTURED-LOCATION;VALUE=URI;X-ADDRESS=ビクトリー国際キリスト教会-2 千間台西3-1-24 Victory Place 越谷市 埼玉県 343-0041 Japan;X-APPLE-RADIUS=500;X-TITLE=千間台西3-1-24 Victory Place:geo:139.768877085,35.9342721223
END:VEVENT
BEGIN:VEVENT
DTSTART;TZID=Asia/Tokyo:20250420T110000
DTEND;TZID=Asia/Tokyo:20250420T140000
DTSTAMP:20260422T175933
CREATED:20250408T033632Z
LAST-MODIFIED:20250408T033632Z
UID:10003434-1745146800-1745157600@vwc.jp
SUMMARY:イースター・サンデー
DESCRIPTION:– Days\n– Hours\n– Minutes\n– Seconds		\n		\n	\n	\n		\n			– Days\n– Hours\n– Minutes\n– Seconds		\n		\n	\n	\n		\n			– Days\n– Hours\n– Minutes\n– Seconds		\n		\n	\n	\n		\n			– Days\n– Hours\n– Minutes\n– Seconds		\n		\n	\n	\n		\n			– Days\n– Hours\n– Minutes\n– Seconds		\n		\n	\n	\n		\n			– Days\n– Hours\n– Minutes\n– Seconds		\n		\n	\n	\n		\n			– Days\n– Hours\n– Minutes\n– Seconds		\n		\n	\n	\n		\n			– Days\n– Hours\n– Minutes\n– Seconds		\n		\n	\n	\n		\n			– Days\n– Hours\n– Minutes\n– Seconds		\n		\n	\n	\n		\n			– Days\n– Hours\n– Minutes\n– Seconds
URL:https://vwc.jp/event/%e3%82%a4%e3%83%bc%e3%82%b9%e3%82%bf%e3%83%bc%e3%83%bb%e3%82%b5%e3%83%b3%e3%83%87%e3%83%bc/
LOCATION:ビクトリー国際キリスト教会-2\, 千間台西3-1-24 Victory Place\, 越谷市\, 埼玉県\, 343-0041\, Japan
ATTACH;FMTTYPE=image/png:https://vwc.jp/wp-content/uploads/2025/04/Easter-Invitation-Card-JP.png
GEO:35.9342721223;139.768877085
X-APPLE-STRUCTURED-LOCATION;VALUE=URI;X-ADDRESS=ビクトリー国際キリスト教会-2 千間台西3-1-24 Victory Place 越谷市 埼玉県 343-0041 Japan;X-APPLE-RADIUS=500;X-TITLE=千間台西3-1-24 Victory Place:geo:139.768877085,35.9342721223
END:VEVENT
END:VCALENDAR