BEGIN:VCALENDAR
VERSION:2.0
PRODID:-//Victory Word Center - Tokyo, Japan - ECPv6.15.13.1//NONSGML v1.0//EN
CALSCALE:GREGORIAN
METHOD:PUBLISH
X-WR-CALNAME:Victory Word Center - Tokyo, Japan
X-ORIGINAL-URL:https://vwc.jp
X-WR-CALDESC:Victory Word Center - Tokyo, Japan のイベント
REFRESH-INTERVAL;VALUE=DURATION:PT1H
X-Robots-Tag:noindex
X-PUBLISHED-TTL:PT1H
BEGIN:VTIMEZONE
TZID:Asia/Tokyo
BEGIN:STANDARD
TZOFFSETFROM:+0900
TZOFFSETTO:+0900
TZNAME:JST
DTSTART:20240101T000000
END:STANDARD
END:VTIMEZONE
BEGIN:VEVENT
DTSTART;TZID=Asia/Tokyo:20251230T140000
DTEND;TZID=Asia/Tokyo:20260102T190000
DTSTAMP:20260422T150104
CREATED:20251121T041154Z
LAST-MODIFIED:20251121T041154Z
UID:10004090-1767103200-1767380400@vwc.jp
SUMMARY:2026年 御言葉と信仰カンファレンス ― 聖霊と力に満たされた新年を迎えよう！
DESCRIPTION:御言葉と信仰カンファレンス 2026\n2025年12月30日（火）\n午後2時 セッション1\n午後5時 – セッション2 \n2025年12月31日（水）\n午後2時 セッション3\n午後10時 セッション4 大晦日カウントダウン \n2026年1月1日（木）\n午後2時 セッション5\n午後5時 セッション6 \n2026年1月2日（金）\n14:00 セッション7\n17:00 セッション8
URL:https://vwc.jp/event/word-and-faith-conference-2026/
LOCATION:ビクトリー国際キリスト教会-2\, 千間台西3-1-24 Victory Place\, 越谷市\, 埼玉県\, 343-0041\, Japan
ATTACH;FMTTYPE=image/jpeg:https://vwc.jp/wp-content/uploads/2025/04/bible-1948778_1280.jpg
GEO:35.9342721223;139.768877085
X-APPLE-STRUCTURED-LOCATION;VALUE=URI;X-ADDRESS=ビクトリー国際キリスト教会-2 千間台西3-1-24 Victory Place 越谷市 埼玉県 343-0041 Japan;X-APPLE-RADIUS=500;X-TITLE=千間台西3-1-24 Victory Place:geo:139.768877085,35.9342721223
END:VEVENT
BEGIN:VEVENT
DTSTART;TZID=Asia/Tokyo:20251231T193000
DTEND;TZID=Asia/Tokyo:20251231T203000
DTSTAMP:20260422T150104
CREATED:20250122T095044Z
LAST-MODIFIED:20250122T095044Z
UID:10004144-1767209400-1767213000@vwc.jp
SUMMARY:聖書研究会 - 水曜夜
DESCRIPTION:この会合は、英語による素晴らしい交わりの聖書研究です。オンラインでの参加はこちらから\nhttps://compass.circleip.com/meet?action=join&sessioncode=699692417 \nさらに良いのは、ビクトリーワード教会のビクトリープレイスビルディングで直接参加することです！
URL:https://vwc.jp/event/%e8%81%96%e6%9b%b8%e7%a0%94%e7%a9%b6%e4%bc%9a-%e6%b0%b4%e6%9b%9c%e5%a4%9c/2025-12-31/
LOCATION:ビクトリー国際キリスト教会\, せんげん台西3-1-24\, 越谷市\, 埼玉県\, 343-0041\, Japan
ATTACH;FMTTYPE=image/png:https://vwc.jp/wp-content/uploads/2021/06/bible-daily-top-m@2x.png
GEO:35.9342721223;139.768877085
X-APPLE-STRUCTURED-LOCATION;VALUE=URI;X-ADDRESS=ビクトリー国際キリスト教会 せんげん台西3-1-24 越谷市 埼玉県 343-0041 Japan;X-APPLE-RADIUS=500;X-TITLE=せんげん台西3-1-24:geo:139.768877085,35.9342721223
END:VEVENT
BEGIN:VEVENT
DTSTART;TZID=Asia/Tokyo:20251231T220000
DTEND;TZID=Asia/Tokyo:20260101T020000
DTSTAMP:20260422T150104
CREATED:20250407T083828Z
LAST-MODIFIED:20250407T083828Z
UID:10003425-1767218400-1767232800@vwc.jp
SUMMARY:クロスオーバー・サービス
DESCRIPTION:– Days\n– Hours\n– Minutes\n– Seconds		\n		\n	\n	\n		\n			– Days\n– Hours\n– Minutes\n– Seconds		\n		\n	\n	\n		\n			– Days\n– Hours\n– Minutes\n– Seconds		\n		\n	\n	\n		\n			– Days\n– Hours\n– Minutes\n– Seconds		\n		\n	\n	\n		\n			– Days\n– Hours\n– Minutes\n– Seconds		\n		\n	\n	\n		\n			– Days\n– Hours\n– Minutes\n– Seconds		\n		\n	\n	\n		\n			– Days\n– Hours\n– Minutes\n– Seconds		\n		\n	\n	\n		\n			– Days\n– Hours\n– Minutes\n– Seconds		\n		\n	\n	\n		\n			– Days\n– Hours\n– Minutes\n– Seconds		\n		\n	\n	\n		\n			– Days\n– Hours\n– Minutes\n– Seconds
URL:https://vwc.jp/event/%e3%82%af%e3%83%ad%e3%82%b9%e3%82%aa%e3%83%bc%e3%83%90%e3%83%bc%e3%83%bb%e3%82%b5%e3%83%bc%e3%83%93%e3%82%b9/
LOCATION:ビクトリー国際キリスト教会-2\, 千間台西3-1-24 Victory Place\, 越谷市\, 埼玉県\, 343-0041\, Japan
GEO:35.9342721223;139.768877085
X-APPLE-STRUCTURED-LOCATION;VALUE=URI;X-ADDRESS=ビクトリー国際キリスト教会-2 千間台西3-1-24 Victory Place 越谷市 埼玉県 343-0041 Japan;X-APPLE-RADIUS=500;X-TITLE=千間台西3-1-24 Victory Place:geo:139.768877085,35.9342721223
END:VEVENT
END:VCALENDAR